BEGIN:VCALENDAR
VERSION:2.0
PRODID:https://www.sammler-termine.de/calendarapplication/
CALSCALE:GREGORIAN
BEGIN:VEVENT
DTSTART:20261108T100000
DTEND:20261108T150000
LOCATION:Gartenstr. 17 61206 Ober-Wöllstadt
DTSTAMP:20260425T224049
SUMMARY:Wöllstädter Modellbahn-, Modellauto- & Blechspielzeugbörse
URL;VALUE=URI:https://www.sammler-termine.de/woellstaedter-modellbahn-modellauto-und-blechspielzeugboerse-am-08.11.2026-in-61206-ober-woellstadt/?cid=14D968O625DE&id=
DESCRIPTION:Ankauf, Verkauf und Tausch von Modellbahnen aller Spurweiten Präsentation/Ausstellung von Emma & Co vor der Römerhalle Blech- und Modellfahrzeugausstellung mit Exponaten aus Vorkriegszeit bis in die Neuzeit
UID:20260425T224049-20261108T100000-20261108T150000
END:VEVENT
END:VCALENDAR