BEGIN:VCALENDAR
VERSION:2.0
PRODID:https://www.sammler-termine.de/calendarapplication/
CALSCALE:GREGORIAN
BEGIN:VEVENT
DTSTART:20261010T100000
DTEND:20261010T170000
LOCATION:Kurhausplatz 1 65189 Wiesbaden
DTSTAMP:20260422T124155
SUMMARY:Puppe & Bär Autumn Edition
URL;VALUE=URI:https://www.sammler-termine.de/puppe-und-baer-autumn-edition-am-10.10.2026-in-65189-wiesbaden/?cid=14D1195O848DE&id=
DESCRIPTION:Die zweite Puppe & Bär 2024 in der Herbst Edition, in Wiesbaden ist eine der größten Verkaufs-Veranstaltungen für antike Puppen, Teddybären und alles was dazu gehört. Deutsche und Französische Antike Puppen, Antike Teddybären und Steifftiere, Teddydoktor, Schätzstelle, bärenstarke Aussteller aus aller Welt, Künstler- und Sammlerbären, Zubehörhändler und Antikhändler, Manufaktur-Artikel, topaktuelle Mohairstoffe, Zubehör fürs Bären machen, neueste Kreationen internationaler ...
UID:20260422T124155-20261010T100000-20261010T170000
END:VEVENT
END:VCALENDAR