BEGIN:VCALENDAR
VERSION:2.0
PRODID:https://www.sammler-termine.de/calendarapplication/
CALSCALE:GREGORIAN
BEGIN:VEVENT
DTSTART:20261010T100000
DTEND:20261010T170000
LOCATION:Kurhausplatz 1 65189 Wiesbaden
DTSTAMP:20260422T121136
SUMMARY:Puppe & Bär
URL;VALUE=URI:https://www.sammler-termine.de/puppe-und-baer-am-10.10.2026-in-65189-wiesbaden/?cid=14D1194O575DE&id=
DESCRIPTION:Verkaufs-Veranstaltungen für antike Puppen, Teddybären und alles was dazu gehört.Künstler- und Sammlerbären, Deutsche und Französische Antike Puppen, Antike Teddybären und Steifftiere, Teddydoktor, Schätzstelle, bärenstarke Aussteller aus aller Welt, Tausende von Künstler- und Sammlerbären, Zubehörhändler und Antikhändler, Manufaktur-Artikel, topaktuelle Mohairstoffe, neueste Kreationen internationaler Bärenkünstler, Sonderartikel, spezielle Limitierungen, Signierung.Highlights ...
UID:20260422T121136-20261010T100000-20261010T170000
END:VEVENT
END:VCALENDAR