BEGIN:VCALENDAR
VERSION:2.0
PRODID:https://www.sammler-termine.de/calendarapplication/
CALSCALE:GREGORIAN
BEGIN:VEVENT
DTSTART:20261122T110000
DTEND:20261122T160000
LOCATION:Horrheimer Strasse 74372 Sersheim
DTSTAMP:20260425T223052
SUMMARY:Modellbau Börse und Spielzeug Börse Sersheim 
URL;VALUE=URI:https://www.sammler-termine.de/modellbau-boerse-und-spielzeug-boerse-sersheim-am-22.11.2026-in-74372-sersheim/?cid=14D1226O422DE&id=
DESCRIPTION:Modellautobörse und Modelleisenbahnbörse - Modellbörse in Sersheim bei LudwigsburgImmer am Totensonntag - Sport- und Kulturhalle, Horrheimer Strasse, D - 74372 Sersheim von 11.00-16.00 UhrDie Modellbaubörse, Modellautobörse, Modelleisenbahnbörse und Spielzeug Börse für den Großraum Stuttgart Pforzheim Enzkreis, Mühlacker, Vaihingen, Bietigheim, Ludwigsburg und Heilbronn. Modelleisenbahnen , Modellautos , Blechspielzeug , Rennbahnen und Zubehör jeglicher Art! Verschiedene Maßstäbe ...
UID:20260425T223052-20261122T110000-20261122T160000
END:VEVENT
END:VCALENDAR