BEGIN:VCALENDAR
VERSION:2.0
PRODID:https://www.sammler-termine.de/calendarapplication/
CALSCALE:GREGORIAN
BEGIN:VEVENT
DTSTART:20270228T103000
DTEND:20270228T160000
LOCATION:Dietesheimer Str. 90 63165 Mühlheim am Main
DTSTAMP:20260425T211949
SUMMARY:Modellbahnbörse Modellautobörse Spielzeugbörse 63165 Mühlheim am Main
URL;VALUE=URI:https://www.sammler-termine.de/modellbahnboerse-modellautoboerse-spielzeugboerse-63165-muehlheim-am-main-am-28.02.2027-in-63165-muehlheim-am-main/?cid=14D1010O219DE&id=
DESCRIPTION:Modellbahn / Modellauto / Spielzeug Börse - !! Eintritt bei all unseren Börsen frei !! -Eine Anmeldung zu unseren Börsen können Sie hier vornehmen:http://www.modellbahn-gebrauchtwaren.de/boersenDort finden Sie auch eine Terminübersicht über alle unsere Veranstaltungen.Wir freuen uns auf Sie :-) Herzliche GrüßeChristian Baumann 
UID:20260425T211949-20270228T103000-20270228T160000
END:VEVENT
END:VCALENDAR