BEGIN:VCALENDAR
VERSION:2.0
PRODID:https://www.sammler-termine.de/calendarapplication/
CALSCALE:GREGORIAN
BEGIN:VEVENT
DTSTART:20261219T103000
DTEND:20261219T160000
LOCATION:Dietesheimer Str. 90 63165 Mühlheim am Main
DTSTAMP:20260425T211634
SUMMARY:Modellbahnbörse Modellautobörse Spielzeugbörse 63165 Mühlheim am Main
URL;VALUE=URI:https://www.sammler-termine.de/modellbahnboerse-modellautoboerse-spielzeugboerse-63165-muehlheim-am-main-am-19.12.2026-in-63165-muehlheim-am-main/?cid=14D1009O125DE&id=
DESCRIPTION:Modellbahn / Modellauto / Spielzeug Börse - !! Eintritt bei all unseren Börsen frei !! -Eine Anmeldung zu unseren Börsen können Sie hier vornehmen:http://www.modellbahn-gebrauchtwaren.de/boersenDort finden Sie auch eine Terminübersicht über alle unsere Veranstaltungen.Wir freuen uns auf Sie :-) Herzliche GrüßeChristian Baumann 
UID:20260425T211634-20261219T103000-20261219T160000
END:VEVENT
END:VCALENDAR