BEGIN:VCALENDAR
VERSION:2.0
PRODID:https://www.sammler-termine.de/calendarapplication/
CALSCALE:GREGORIAN
BEGIN:VEVENT
DTSTART:20261220T100000
DTEND:20261220T140000
LOCATION:Äußere Reichenbacher Straße 4 08529 Plauen
DTSTAMP:20260425T212114
SUMMARY:Modellbahnbörse Berlin
URL;VALUE=URI:https://www.sammler-termine.de/modellbahnboerse-berlin-am-20.12.2026-in-08529-plauen/?cid=14D1106O752DE&id=
DESCRIPTION:Die Modellbahnbörse Berlin ist für Modelleisenbahn Liebhaber und Sammler ein absolutes Muss. Hier haben Besucher die Möglichkeit zum Kauf, Tausch und Verkauf von Modelleisenbahnen und Zubehör aller Hersteller von Z bis LGB einschließlich Überraschungseierfiguren.
UID:20260425T212114-20261220T100000-20261220T140000
END:VEVENT
END:VCALENDAR