BEGIN:VCALENDAR
VERSION:2.0
PRODID:https://www.sammler-termine.de/calendarapplication/
CALSCALE:GREGORIAN
BEGIN:VEVENT
DTSTART:20261219T100000
DTEND:20261219T140000
LOCATION:Schreberstraße 37 01662 Meißen
DTSTAMP:20260425T224521
SUMMARY:Modellbahnbörse Berlin
URL;VALUE=URI:https://www.sammler-termine.de/modellbahnboerse-berlin-am-19.12.2026-in-01662-meissen/?cid=14D1111O714DE&id=
DESCRIPTION:Die Modellbahnbörse Berlin ist für Modelleisenbahn Liebhaber und Sammler ein absolutes Muss. Hier haben Besucher die Möglichkeit zum Kauf, Tausch und Verkauf von Modelleisenbahnen und Zubehör aller Hersteller von Z bis LGB einschließlich Überraschungseierfiguren.
UID:20260425T224521-20261219T100000-20261219T140000
END:VEVENT
END:VCALENDAR