BEGIN:VCALENDAR
VERSION:2.0
PRODID:https://www.sammler-termine.de/calendarapplication/
CALSCALE:GREGORIAN
BEGIN:VEVENT
DTSTART:20261213T100000
DTEND:20261213T140000
LOCATION:Theaterstraße 3 09111 Chemnitz
DTSTAMP:20260425T223950
SUMMARY:Modellbahnbörse Berlin
URL;VALUE=URI:https://www.sammler-termine.de/modellbahnboerse-berlin-am-13.12.2026-in-09111-chemnitz/?cid=14D1093O799DE&id=
DESCRIPTION:Die Modellbahnbörse Berlin ist für Modelleisenbahn Liebhaber und Sammler ein absolutes Muss. Hier haben Besucher die Möglichkeit zum Kauf, Tausch und Verkauf von Modelleisenbahnen und Zubehör aller Hersteller von Z bis LGB einschließlich Überraschungseierfiguren.
UID:20260425T223950-20261213T100000-20261213T140000
END:VEVENT
END:VCALENDAR