BEGIN:VCALENDAR
VERSION:2.0
PRODID:https://www.sammler-termine.de/calendarapplication/
CALSCALE:GREGORIAN
BEGIN:VEVENT
DTSTART:20260906T100000
DTEND:20260906T140000
LOCATION:Marzahner Promenade 55 12679 Berlin
DTSTAMP:20260424T65035
SUMMARY:Modellbahnbörse Berlin
URL;VALUE=URI:https://www.sammler-termine.de/modellbahnboerse-berlin-am-06.09.2026-in-12679-berlin/?cid=14D1102O303DE&id=
DESCRIPTION:Die Modellbahnbörse Berlin ist für Modelleisenbahn Liebhaber und Sammler ein absolutes Muss. Hier haben Besucher die Möglichkeit zum Kauf, Tausch und Verkauf von Modelleisenbahnen und Zubehör aller Hersteller von Z bis LGB einschließlich Überraschungseierfiguren.
UID:20260424T65035-20260906T100000-20260906T140000
END:VEVENT
END:VCALENDAR