BEGIN:VCALENDAR
VERSION:2.0
PRODID:https://www.sammler-termine.de/calendarapplication/
CALSCALE:GREGORIAN
BEGIN:VEVENT
DTSTART:20260502T100000
DTEND:20260502T140000
LOCATION:Holbeinstraße 68 01307 Dresden
DTSTAMP:20260423T80540
SUMMARY:Modellbahnbörse Berlin
URL;VALUE=URI:https://www.sammler-termine.de/modellbahnboerse-berlin-am-02.05.2026-in-01307-dresden/?cid=14D1088O698DE&id=
DESCRIPTION:Die Modellbahnbörse Berlin ist für Modelleisenbahn Liebhaber und Sammler ein absolutes Muss. Hier haben Besucher die Möglichkeit zum Kauf, Tausch und Verkauf von Modelleisenbahnen und Zubehör aller Hersteller von Z bis LGB einschließlich Überraschungseierfiguren.
UID:20260423T80540-20260502T100000-20260502T140000
END:VEVENT
END:VCALENDAR