BEGIN:VCALENDAR
VERSION:2.0
PRODID:https://www.sammler-termine.de/calendarapplication/
CALSCALE:GREGORIAN
BEGIN:VEVENT
DTSTART:20260426T100000
DTEND:20260426T140000
LOCATION:Glogauer Straße 50 90473 Nürnberg
DTSTAMP:20260424T124708
SUMMARY:Modellautobörse des MAC Franken e.V.
URL;VALUE=URI:https://www.sammler-termine.de/modellautoboerse-des-mac-franken-e-v--am-26.04.2026-in-90473-nuernberg/?cid=14D1000O549DE&id=
DESCRIPTION:Tausch- und Verkaufbörse für Modellautos aller Maßstäbe, Details auf unserer Homepage www.mac-franken.de
UID:20260424T124708-20260426T100000-20260426T140000
END:VEVENT
END:VCALENDAR