BEGIN:VCALENDAR
VERSION:2.0
PRODID:https://www.sammler-termine.de/calendarapplication/
CALSCALE:GREGORIAN
BEGIN:VEVENT
DTSTART:20260627T103000
DTEND:20260627T160000
LOCATION:Pariser Str. 151 55268 Nieder-Olm
DTSTAMP:20260425T195051
SUMMARY:Mainzer Modellbahnbörse Modellautobörse Spielzeugbörse in 55268 Nieder-Olm
URL;VALUE=URI:https://www.sammler-termine.de/mainzer-modellbahnboerse-modellautoboerse-spielzeugboerse-in-55268-nieder-olm-am-27.06.2026-in-55268-nieder-olm/?cid=14D1008O148DE&id=
DESCRIPTION:Mainzer Modellbahnbörse / Modellautobörse / SpielzeugbörseSamstag 03.01.2026, 10:30-16 Uhr 55268 Nieder-Olm - Ludwig-Eckes-Festhalle, Pariser Str. 151!! Eintritt Frei !!
UID:20260425T195051-20260627T103000-20260627T160000
END:VEVENT
END:VCALENDAR