BEGIN:VCALENDAR
VERSION:2.0
PRODID:https://www.sammler-termine.de/calendarapplication/
CALSCALE:GREGORIAN
BEGIN:VEVENT
DTSTART:20261011T100000
DTEND:20261011T160000
LOCATION:Wildmoosstraße 36 82194 Gröbenzell
DTSTAMP:20260421T170018
SUMMARY:Fashion Dolls & Action Figuren Convention (Barbie Börse München)
URL;VALUE=URI:https://www.sammler-termine.de/fashion-dolls-und-action-figuren-convention-barbie-boerse-muenchen--am-11.10.2026-in-82194-groebenzell/?cid=14D1086O645DE&id=
DESCRIPTION:Fashion Dolls & Action Figuren Convention Süddeutschlandmit dabei die klassische „Barbie-Börse“ mit Tauschen und Schätzen lassenin Gröbenzell im Münchner WestenAction Figuren machen das Angebot komplettMehrzwecksaal im Freizeitzentrum an der WildmoosstraßeParken direkt vor Ort ist kostenlos aber bitte eine Parkscheibe ins Auto!S-Bahn S3 Gröbenzell ca. 12 GehminutenHunde sind leider im gesamten Gebäude nicht erlaubtBesucher/innen               10-16 Uhr           Eintritt 5 € ab 14 ...
UID:20260421T170018-20261011T100000-20261011T160000
END:VEVENT
END:VCALENDAR