BEGIN:VCALENDAR
VERSION:2.0
PRODID:https://www.sammler-termine.de/calendarapplication/
CALSCALE:GREGORIAN
BEGIN:VEVENT
DTSTART:20261108T100000
DTEND:20261108T150000
LOCATION:Dammweg 1 85098 Großmehring
DTSTAMP:20260425T222753
SUMMARY:40 Jahre Ingolstädter Modelleisenbahn-und Spielzeugmarkt
URL;VALUE=URI:https://www.sammler-termine.de/40-jahre-ingolstaedter-modelleisenbahn-und-spielzeugmarkt-am-08.11.2026-in-85098-grossmehring/?cid=14D1197O564DE&id=
DESCRIPTION:Der Modellbahn- Treff der Region findet am 8.11.2026 im Herzen von Bayern statt.Angeboten werden Modellbahnen fast aller Hersteller und Spurweiten, Modellbahnzubehör, Modellautos und Literatur.Die Anfahrtsbeschreibung entnehmen Sie bitte von meinerHomepage www.ingolstaedter-modellbahnmarkt.deÖffnungszeiten von 10:00 bis 15:00 Uhr.In der Niebelungenhalle 85098 Großmehring, Dammweg 1Tel.: 08404-9399930
UID:20260425T222753-20261108T100000-20261108T150000
END:VEVENT
END:VCALENDAR